Workbook
Name ____RAZ1: #REF!
Name ____RAZ1: #REF!
Name ____RAZ1: #REF!
Name ____RAZ1: #REF!
Name ____RAZ2: #REF!
Name ____RAZ2: #REF!
Name ____RAZ2: #REF!
Name ____RAZ2: #REF!
Name ____RAZ3: #REF!
Name ____RAZ3: #REF!
Name ____RAZ3: #REF!
Name ____RAZ3: #REF!
Name ___INDEX_SHEET___ASAP_Utilities: #REF!
Name ___INDEX_SHEET___ASAP_Utilities: #REF!
Name ___INDEX_SHEET___ASAP_Utilities: #REF!
Name ___INDEX_SHEET___ASAP_Utilities: #REF!
Name ___OS16: #REF!
Name ___OS16: #REF!
Name ___OS16: #REF!
Name ___OS16: #REF!
Name ___RAZ1: #REF!
Name ___RAZ1: #REF!
Name ___RAZ1: #REF!
Name ___RAZ1: #REF!
Name ___RAZ2: #REF!
Name ___RAZ2: #REF!
Name ___RAZ2: #REF!
Name ___RAZ2: #REF!
Name ___RAZ3: #REF!
Name ___RAZ3: #REF!
Name ___RAZ3: #REF!
Name ___RAZ3: #REF!
Name __MAIN__: #REF!
Name __MAIN__: #REF!
Name __MAIN__: #REF!
Name __MAIN__: #REF!
Name __MAIN1__: #REF!
Name __MAIN1__: #REF!
Name __MAIN1__: #REF!
Name __MAIN1__: #REF!
Name __MAIN2__: #REF!
Name __MAIN2__: #REF!
Name __MAIN2__: #REF!
Name __MAIN2__: #REF!
Name __MAIN3__: #REF!
Name __MAIN3__: #REF!
Name __MAIN3__: #REF!
Name __MAIN3__: #REF!
Name __OS16: #REF!
Name __OS16: #REF!
Name __OS16: #REF!
Name __OS16: #REF!
Name __qryDecFlowPressure__: #REF!
Name __qryDecFlowPressure__: #REF!
Name __qryDecFlowPressure__: #REF!
Name __qryDecFlowPressure__: #REF!
Name __qryIncFlowPressure__: #REF!
Name __qryIncFlowPressure__: #REF!
Name __qryIncFlowPressure__: #REF!
Name __qryIncFlowPressure__: #REF!

Sheet Форма КП
F1: Приложение № 1 – Форма расчётов к коммерческому предложению
A3: Коммерческое предложение на оказание услуг по ремонтно-изоляционным работам эксплуатационных скважин на месторождениях ООО "КанБайкал"
A5: № п\п | B5: Вид работ | C5: Ед.изм. | D5: Кол-во операций | E5: Cтоимость за 1 операцию, руб. без НДС | F5: Cтоимость за 1 операцию, руб. с НДС | G5: Примечание
A8: 1 | B8: 2 | C8: 3 | D8: 4 | E8: 5 | F8: 6 | G8: 7
A9: 1 | B9: РИР (ЛНЭК, изоляция пласта)(без мобилизации и демобилизации) | C9: скв/оп. | D9: 1 | G9: Расчет №
A10: =A9+1 -> 2 | B10: РИР (изоляция межколонного пространства)(без мобилизации и демобилизации) | C10: скв/оп. | D10: 1 | G10: Расчет №
A11: =A10+1 -> 3 | B11: ЛНЭК при малой приемистости с применением микроцемента (без мобилизации и демобилизации) | C11: скв/оп. | D11: 1 | G11: Расчет №
A12: =A11+1 -> 4 | B12: РИР ЛЗКЦ (Ликвидация заколонной циркуляции c применением пакера-ретейнера) (без мобилизации и демобилизации) | C12: скв/оп. | D12: 1 | G12: Расчет №
A13: =A12+1 -> 5 | B13: РИР ОВП (Ограничение водопритока) (без мобилизации и демобилизации) | C13: скв/оп. | D13: 1 | G13: Расчет №
A14: =A13+1 -> 6 | B14: РИР (ВЦК, ЛЗКЦ сверху)(без мобилизации и демобилизации) | C14: скв/оп. | D14: 1 | G14: Расчет №
A15: =A14+1 -> 7 | B15: РИР (ЛНЭК с высокой приемистостью, более 700 м3 в сутки)(без мобилизации и демобилизации) | C15: скв/оп. | D15: 1 | G15: Расчет №
A16: =A15+1 -> 8 | B16: Мобилизация флота РИР | C16: скв/оп. | D16: 7 | G16: Расчет №
A17: =A16+1 -> 9 | B17: Демобилизация флота РИР | C17: скв/оп. | D17: 7 | G17: Расчет №
A18: Примечание: • Все работы выполняются по заявкам.
A19: Генеральный директор ООО ""

Sheet ЛНЭК
A2: Калькуляция стоимости ремонтно-изоляционных работ ООО "" на объектах ООО "КанБайкал"
A3: РИР (ЛНЭК, изоляция пласта)
A4: Продолжительность операции с учетом прибытия/убытия на месторождение | E4: 12 | F4: час
A6: № п/п | B6: Статьи затрат | C6: Ед. изм. | D6: Цена (руб.), ед. | E6: Количество | F6: Итого (руб.)
A7: 1 | B7: Используемые материалы: | F7: =SUM(F8:F17) -> 0
B8: Цемент ПЦТ-G | C8: тн | F8: =ROUND(D8*E8,2) -> 0
B9: Замедлитель схватывания CR 220 | C9: кг | F9: =ROUND(D9*E9,2) -> 0
B10: Понизитель водоотдачи CFL 117 | C10: кг | F10: =ROUND(D10*E10,2) -> 0
B11: Диспергатор цемента CD 12 | C11: кг | F11: =ROUND(D11*E11,2) -> 0
B12: Пеногаситель | C12: кг | F12: =ROUND(D12*E12,2) -> 0
B13: Гелеобразующий состав BrineBlock 708 | C13: кг | F13: =ROUND(D13*E13,2) -> 0
B14: Расширяющая добавка ДаРт-100 | C14: кг | F14: =ROUND(D14*E14,2) -> 0
B15: Пресная вода | C15: м3 | F15: =ROUND(D15*E15,2) -> 0
B16: MPS Reis-H | C16: кг | F16: =ROUND(D16*E16,2) -> 0
B17: Сшиватель: ацетат хрома | C17: ='Расчет 4 Материалы'!D19 -> кг | F17: =ROUND(D17*E17,2) -> 0
A18: 2 | B18: Электроэнергия, руб. | C18: кВт | F18: =ROUND(D18*E18,2) -> 0
A19: 3 | B19: Фонд заработной платы, руб. | F19: =SUM(F20:F21) -> 0
B20: ='Расчет 1 Зарпл.'!C7 -> Инженер-технолог | C20: чел/час | E20: =E4 -> 12 | F20: =ROUND(D20*E20,2) -> 0
B21: ='Расчет 1 Зарпл.'!C8 -> Оператор по подготовке скважин к капитальному и подземному ремонтам 4 разряда | C21: чел/час | E21: =E20*'Расчет 1 Зарпл.'!D8 -> 0 | F21: =ROUND(D21*E21,2) -> 0
A22: 4 | B22: Страховые взносы, руб. | C22: 0.304 | F22: =ROUND(F19*C22,2) -> 0
A23: 5 | B23: Амортизация и арендная плата, руб. | C23: нормо/час | E23: =E20 -> 12 | F23: =ROUND(D23*E23,2) -> 0
A24: 6 | B24: Транспортные услуги, руб. | F24: =SUM(F25:F33) -> 0
B25: ='Расчет 5 Спец.техника'!C8 -> Блендер | C25: маш/час | E25: ='Расчет 5 Спец.техника'!H8 -> 0 | F25: =ROUND(D25*E25,2) -> 0
B26: ='Расчет 5 Спец.техника'!C9 -> Передвижной компресор (цементовоз) | C26: маш/час | E26: ='Расчет 5 Спец.техника'!H9 -> 0 | F26: =ROUND(D26*E26,2) -> 0
B27: ='Расчет 5 Спец.техника'!C10 -> Автоцистерна АЦН-16 | C27: маш/час | E27: ='Расчет 5 Спец.техника'!H10 -> 0 | F27: =ROUND(D27*E27,2) -> 0
B28: ='Расчет 5 Спец.техника'!C11 -> Цементировочный агрегат | C28: маш/час | E28: ='Расчет 5 Спец.техника'!H11 -> 0 | F28: =ROUND(D28*E28,2) -> 0
B29: ='Расчет 5 Спец.техника'!C12 -> Вакуумник | C29: маш/час | E29: ='Расчет 5 Спец.техника'!H12 -> 0 | F29: =ROUND(D29*E29,2) -> 0
B30: ='Расчет 5 Спец.техника'!C13 -> Фискарс | C30: маш/час | E30: ='Расчет 5 Спец.техника'!H13 -> 0 | F30: =ROUND(D30*E30,2) -> 0
B31: ='Расчет 5 Спец.техника'!C15 -> Камаз полуприцеп 16 тн | C31: маш/час | E31: ='Расчет 5 Спец.техника'!H15 -> 0 | F31: =ROUND(D31*E31,2) -> 0
B32: ='Расчет 5 Спец.техника'!C16 -> Оперативный транспорт | C32: маш/час | E32: ='Расчет 5 Спец.техника'!H16 -> 0 | F32: =ROUND(D32*E32,2) -> 0
B33: ='Расчет 5 Спец.техника'!C17 -> Газель | C33: маш/час | E33: ='Расчет 5 Спец.техника'!H17 -> 0 | F33: =ROUND(D33*E33,2) -> 0
A34: 7 | B34: Услуги связи | C34: нормо/час | E34: =E20 -> 12 | F34: =ROUND(D34*E34,2) -> 0
A35: 8 | B35: Прочие расходы | F35: =SUM(F36:F42) -> 0
B36: Аренда пакера | C36: сут. | F36: =ROUND(D36*E36,2) -> 0
B37: Станция контроля (плотность, расход, давление и температуру ) | C37: руб./час.
B38: Проведение лабораторных анализов цементного раствора | C38: анализ | F38: =ROUND(D38*E38,2) -> 0
B39: Проведение лабораторных анализов воды | C39: анализ | F39: =ROUND(D39*E39,2) -> 0
B40: Проведение лабораторных анализов полимерных композиций | C40: анализ | F40: =ROUND(D40*E40,2) -> 0
B41: СИЗ | C41: нормо/час | F41: =ROUND(D41*E41,2) -> 0
B42: Проживание и питание на м/р | C42: руб./час. | F42: =ROUND(D42*E42,2) -> 0
...

Sheet РИР мжк
A2: Калькуляция стоимости ремонтно-изоляционных работ ООО "" на объектах ООО "КанБайкал"
A3: РИР (изоляция межколонного пространства)
A4: Продолжительность операции с учетом прибытия/убытия на месторождение | E4: 12 | F4: час
A6: № п/п | B6: Статьи затрат | C6: Ед. изм. | D6: Цена (руб.), ед. | E6: Количество | F6: Итого (руб.)
A7: 1 | B7: Используемые материалы: | F7: =SUM(F8:F17) -> 0
B8: Цемент ПЦТ-G | C8: тн | F8: =ROUND(D8*E8,2) -> 0
B9: Замедлитель схватывания CR 220 | C9: кг | F9: =ROUND(D9*E9,2) -> 0
B10: Понизитель водоотдачи CFL 117 | C10: кг | F10: =ROUND(D10*E10,2) -> 0
B11: Диспергатор цемента CD 12 | C11: кг | F11: =ROUND(D11*E11,2) -> 0
B12: Пеногаситель | C12: кг | F12: =ROUND(D12*E12,2) -> 0
B13: Гелеобразующий состав BrineBlock 708 | C13: кг | F13: =ROUND(D13*E13,2) -> 0
B14: Расширяющая добавка ДаРт-100 | C14: кг | F14: =ROUND(D14*E14,2) -> 0
B15: Пресная вода | C15: м3 | F15: =ROUND(D15*E15,2) -> 0
B16: MPS Reis-H | C16: кг | E16: ='Расчет 4 Материалы'!R19 -> 0 | F16: =ROUND(D16*E16,2) -> 0
B17: Сшиватель: ацетат хрома | C17: ='Расчет 4 Материалы'!D19 -> кг | E17: ='Расчет 4 Материалы'!R20 -> 0 | F17: =ROUND(D17*E17,2) -> 0
A18: 2 | B18: Электроэнергия, руб. | C18: кВт | F18: =ROUND(D18*E18,2) -> 0
A19: 3 | B19: Фонд заработной платы, руб. | F19: =SUM(F20:F21) -> 0
B20: ='Расчет 1 Зарпл.'!C7 -> Инженер-технолог | C20: чел/час | E20: =E4 -> 12 | F20: =ROUND(D20*E20,2) -> 0
B21: ='Расчет 1 Зарпл.'!C8 -> Оператор по подготовке скважин к капитальному и подземному ремонтам 4 разряда | C21: чел/час | E21: =E20*'Расчет 1 Зарпл.'!D8 -> 0 | F21: =ROUND(D21*E21,2) -> 0
A22: 4 | B22: Страховые взносы, руб. | C22: 0.304 | F22: =ROUND(F19*C22,2) -> 0
A23: 5 | B23: Амортизация и арендная плата, руб. | C23: нормо/час | E23: =E20 -> 12 | F23: =ROUND(D23*E23,2) -> 0
A24: 6 | B24: Транспортные услуги, руб. | F24: =SUM(F25:F33) -> 0
B25: ='Расчет 5 Спец.техника'!C8 -> Блендер | C25: маш/час | E25: ='Расчет 5 Спец.техника'!AF8 -> 0 | F25: =ROUND(D25*E25,2) -> 0
B26: ='Расчет 5 Спец.техника'!C9 -> Передвижной компресор (цементовоз) | C26: маш/час | E26: ='Расчет 5 Спец.техника'!AF9 -> 0 | F26: =ROUND(D26*E26,2) -> 0
B27: ='Расчет 5 Спец.техника'!C10 -> Автоцистерна АЦН-16 | C27: маш/час | E27: ='Расчет 5 Спец.техника'!AF10 -> 0 | F27: =ROUND(D27*E27,2) -> 0
B28: ='Расчет 5 Спец.техника'!C11 -> Цементировочный агрегат | C28: маш/час | E28: ='Расчет 5 Спец.техника'!AF11 -> 0 | F28: =ROUND(D28*E28,2) -> 0
B29: ='Расчет 5 Спец.техника'!C12 -> Вакуумник | C29: маш/час | E29: ='Расчет 5 Спец.техника'!AF12 -> 0 | F29: =ROUND(D29*E29,2) -> 0
B30: ='Расчет 5 Спец.техника'!C13 -> Фискарс | C30: маш/час | E30: ='Расчет 5 Спец.техника'!AF13 -> 0 | F30: =ROUND(D30*E30,2) -> 0
B31: ='Расчет 5 Спец.техника'!C15 -> Камаз полуприцеп 16 тн | C31: маш/час | E31: ='Расчет 5 Спец.техника'!AF15 -> 0 | F31: =ROUND(D31*E31,2) -> 0
B32: ='Расчет 5 Спец.техника'!C16 -> Оперативный транспорт | C32: маш/час | E32: ='Расчет 5 Спец.техника'!H16 -> 0 | F32: =ROUND(D32*E32,2) -> 0
B33: ='Расчет 5 Спец.техника'!C17 -> Газель | C33: маш/час | E33: ='Расчет 5 Спец.техника'!AF17 -> 0 | F33: =ROUND(D33*E33,2) -> 0
A34: 7 | B34: Услуги связи | C34: нормо/час | E34: =E20 -> 12 | F34: =ROUND(D34*E34,2) -> 0
A35: 8 | B35: Прочие расходы | F35: =SUM(F36:F41) -> 0
B36: Аренда пакера | C36: сут. | F36: =ROUND(D36*E36,2) -> 0
B37: Станция контроля (плотность, расход, давление и температуру ) | C37: руб./час.
B38: Проведение лабораторных анализов цементного раствора | C38: анализ | F38: =ROUND(D38*E38,2) -> 0
B39: Проведение лабораторных анализов воды | C39: анализ | F39: =ROUND(D39*E39,2) -> 0
B40: СИЗ | C40: нормо/час | F40: =ROUND(D40*E40,2) -> 0
B41: Проживание и питание на м/р | C41: руб./час. | E41: =E20 -> 12 | F41: =ROUND(D41*E41,2) -> 0
A42: 9 | B42: Итого прямых затрат, руб. | F42: =F23+F22+F19+F18+F7+F24+F34+F35 -> 0
...

Sheet ЛНЭК микроц
A2: Калькуляция стоимости ремонтно-изоляционных работ ООО "" на объектах ООО "КанБайкал"
A3: ЛНЭК при малой приемистости с применением микроцемента
A4: Продолжительность операции с учетом прибытия/убытия на месторождение | E4: 15 | F4: час
A6: № п/п | B6: Статьи затрат | C6: Ед. изм. | D6: Цена (руб.), ед. | E6: Количество | F6: Итого (руб.)
A7: 1 | B7: Используемые материалы: | F7: =SUM(F8:F17) -> 0
B8: Цемент ПЦТ-G | C8: тн | D8: ='Расчет 4 Материалы'!E9 -> 0 | E8: ='Расчет 4 Материалы'!L9 -> 0 | F8: =ROUND(D8*E8,2) -> 0
B9: Замедлитель схватывания CR 220 | C9: кг | F9: =ROUND(D9*E9,2) -> 0
B10: Понизитель водоотдачи CFL 117 | C10: кг | F10: =ROUND(D10*E10,2) -> 0
B11: Диспергатор цемента CD 12 | C11: кг | F11: =ROUND(D11*E11,2) -> 0
B12: Пеногаситель | C12: кг | F12: =ROUND(D12*E12,2) -> 0
B13: Гелеобразующий состав BrineBlock 708 | C13: кг | F13: =ROUND(D13*E13,2) -> 0
B14: Расширяющая добавка ДаРт-100 | C14: кг | F14: =ROUND(D14*E14,2) -> 0
B15: ='Расчет 4 Материалы'!C18 -> Пресная вода | C15: ='Расчет 4 Материалы'!D18 -> м3 | F15: =ROUND(D15*E15,2) -> 0
B16: ='Расчет 4 Материалы'!C21 -> ГС ТермоПласт-1 | C16: м3 | F16: =ROUND(D16*E16,2) -> 0
B17: ='Расчет 4 Материалы'!C23 -> Микроцемент Mikrodur R-95 | C17: тн | F17: =ROUND(D17*E17,2) -> 0
A18: 2 | B18: Электроэнергия, руб. | C18: кВт | F18: =ROUND(D18*E18,2) -> 0
A19: 3 | B19: Фонд заработной платы, руб. | F19: =SUM(F20:F21) -> 0
B20: ='Расчет 1 Зарпл.'!C7 -> Инженер-технолог | C20: чел/час | E20: =E4 -> 15 | F20: =ROUND(D20*E20,2) -> 0
B21: ='Расчет 1 Зарпл.'!C8 -> Оператор по подготовке скважин к капитальному и подземному ремонтам 4 разряда | C21: чел/час | E21: =E20*'Расчет 1 Зарпл.'!D8 -> 0 | F21: =ROUND(D21*E21,2) -> 0
A22: 4 | B22: Страховые взносы, руб. | C22: 0.304 | F22: =ROUND(F19*C22,2) -> 0
A23: 5 | B23: Амортизация и арендная плата, руб. | C23: нормо/час | E23: =E20 -> 15 | F23: =ROUND(D23*E23,2) -> 0
A24: 6 | B24: Транспортные услуги, руб. | F24: =SUM(F25:F33) -> 0
B25: ='Расчет 5 Спец.техника'!C8 -> Блендер | C25: маш/час | E25: ='Расчет 5 Спец.техника'!T8 -> 0 | F25: =ROUND(D25*E25,2) -> 0
B26: ='Расчет 5 Спец.техника'!C9 -> Передвижной компресор (цементовоз) | C26: маш/час | E26: ='Расчет 5 Спец.техника'!T9 -> 0 | F26: =ROUND(D26*E26,2) -> 0
B27: ='Расчет 5 Спец.техника'!C10 -> Автоцистерна АЦН-16 | C27: маш/час | E27: ='Расчет 5 Спец.техника'!T10 -> 0 | F27: =ROUND(D27*E27,2) -> 0
B28: ='Расчет 5 Спец.техника'!C11 -> Цементировочный агрегат | C28: маш/час | E28: ='Расчет 5 Спец.техника'!T11 -> 0 | F28: =ROUND(D28*E28,2) -> 0
B29: ='Расчет 5 Спец.техника'!C12 -> Вакуумник | C29: маш/час | E29: ='Расчет 5 Спец.техника'!T12 -> 0 | F29: =ROUND(D29*E29,2) -> 0
B30: ='Расчет 5 Спец.техника'!C13 -> Фискарс | C30: маш/час | E30: ='Расчет 5 Спец.техника'!T13 -> 0 | F30: =ROUND(D30*E30,2) -> 0
B31: ='Расчет 5 Спец.техника'!C15 -> Камаз полуприцеп 16 тн | C31: маш/час | E31: ='Расчет 5 Спец.техника'!T15 -> 0 | F31: =ROUND(D31*E31,2) -> 0
B32: ='Расчет 5 Спец.техника'!C16 -> Оперативный транспорт | C32: маш/час | E32: ='Расчет 5 Спец.техника'!H16 -> 0 | F32: =ROUND(D32*E32,2) -> 0
B33: ='Расчет 5 Спец.техника'!C17 -> Газель | C33: маш/час | E33: ='Расчет 5 Спец.техника'!T17 -> 0 | F33: =ROUND(D33*E33,2) -> 0
A34: 7 | B34: Услуги связи | C34: нормо/час | E34: =E20 -> 15 | F34: =ROUND(D34*E34,2) -> 0
A35: 8 | B35: Прочие расходы | F35: =SUM(F36:F41) -> 0
B36: Аренда пакера | C36: сут. | F36: =ROUND(D36*E36,2) -> 0
B37: Станция контроля (плотность, расход, давление и температуру ) | C37: руб./час.
B38: Проведение лабораторных анализов цементного раствора | C38: анализ | F38: =ROUND(D38*E38,2) -> 0
B39: Проведение лабораторных анализов воды | C39: анализ | F39: =ROUND(D39*E39,2) -> 0
B40: СИЗ | C40: нормо/час | F40: =ROUND(D40*E40,2) -> 0
B41: Проживание и питание на м/р | C41: руб./час. | E41: =E20 -> 15 | F41: =ROUND(D41*E41,2) -> 0
A42: 9 | B42: Итого прямых затрат, руб. | F42: =F23+F22+F19+F18+F7+F24+F34+F35 -> 0
...

Sheet ЛЗКЦ пакер
A2: Калькуляция стоимости ремонтно-изоляционных работ ООО "" на объектах ООО "КанБайкал"
A3: РИР ЛЗКЦ (Ликвидация заколонной циркуляции c применением пакера-ретейнера)
A4: Продолжительность операции с учетом прибытия/убытия на месторождение | E4: 12 | F4: час
A6: № п/п | B6: Статьи затрат | C6: Ед. изм. | D6: Цена (руб.), ед. | E6: Количество | F6: Итого (руб.)
A7: 1 | B7: Используемые материалы: | F7: =SUM(F8:F16) -> 0
B8: Цемент ПЦТ-G | C8: тн | F8: =ROUND(D8*E8,2) -> 0
B9: Замедлитель схватывания CR 220 | C9: кг | F9: =ROUND(D9*E9,2) -> 0
B10: Понизитель водоотдачи CFL 117 | C10: кг | F10: =ROUND(D10*E10,2) -> 0
B11: Диспергатор цемента CD 12 | C11: кг | F11: =ROUND(D11*E11,2) -> 0
B12: Пеногаситель | C12: кг | F12: =ROUND(D12*E12,2) -> 0
B13: Гелеобразующий состав BrineBlock 708 | C13: кг | F13: =ROUND(D13*E13,2) -> 0
B14: Расширяющая добавка ДаРт-100 | C14: кг | F14: =ROUND(D14*E14,2) -> 0
B15: Пресная вода | C15: м3 | F15: =ROUND(D15*E15,2) -> 0
B16: ='Расчет 4 Материалы'!C16 -> Пакер-ретейнер | C16: шт | F16: =ROUND(D16*E16,2) -> 0
A17: 2 | B17: Электроэнергия, руб. | C17: кВт | F17: =ROUND(D17*E17,2) -> 0
A18: 3 | B18: Фонд заработной платы, руб. | F18: =SUM(F19:F20) -> 0
B19: ='Расчет 1 Зарпл.'!C7 -> Инженер-технолог | C19: чел/час | E19: =E4 -> 12 | F19: =ROUND(D19*E19,2) -> 0
B20: ='Расчет 1 Зарпл.'!C8 -> Оператор по подготовке скважин к капитальному и подземному ремонтам 4 разряда | C20: чел/час | E20: =E19*2 -> 24 | F20: =ROUND(D20*E20,2) -> 0
A21: 4 | B21: Страховые взносы, руб. | C21: 0.304 | F21: =ROUND(F18*C21,2) -> 0
A22: 5 | B22: Амортизация и арендная плата, руб. | C22: нормо/час | E22: =E19 -> 12 | F22: =ROUND(D22*E22,2) -> 0
A23: 6 | B23: Транспортные услуги, руб. | F23: =SUM(F24:F32) -> 0
B24: ='Расчет 5 Спец.техника'!C8 -> Блендер | C24: маш/час | E24: ='Расчет 5 Спец.техника'!L8 -> 0 | F24: =ROUND(D24*E24,2) -> 0
B25: ='Расчет 5 Спец.техника'!C9 -> Передвижной компресор (цементовоз) | C25: маш/час | E25: ='Расчет 5 Спец.техника'!L9 -> 0 | F25: =ROUND(D25*E25,2) -> 0
B26: ='Расчет 5 Спец.техника'!C10 -> Автоцистерна АЦН-16 | C26: маш/час | E26: ='Расчет 5 Спец.техника'!L10 -> 0 | F26: =ROUND(D26*E26,2) -> 0
B27: ='Расчет 5 Спец.техника'!C11 -> Цементировочный агрегат | C27: маш/час | E27: ='Расчет 5 Спец.техника'!L11 -> 0 | F27: =ROUND(D27*E27,2) -> 0
B28: ='Расчет 5 Спец.техника'!C12 -> Вакуумник | C28: маш/час | E28: ='Расчет 5 Спец.техника'!L12 -> 0 | F28: =ROUND(D28*E28,2) -> 0
B29: ='Расчет 5 Спец.техника'!C13 -> Фискарс | C29: маш/час | E29: ='Расчет 5 Спец.техника'!L13 -> 0 | F29: =ROUND(D29*E29,2) -> 0
B30: ='Расчет 5 Спец.техника'!C15 -> Камаз полуприцеп 16 тн | C30: маш/час | E30: ='Расчет 5 Спец.техника'!L15 -> 0 | F30: =ROUND(D30*E30,2) -> 0
B31: ='Расчет 5 Спец.техника'!C16 -> Оперативный транспорт | C31: маш/час | E31: ='Расчет 5 Спец.техника'!L16 -> 0 | F31: =ROUND(D31*E31,2) -> 0
B32: ='Расчет 5 Спец.техника'!C17 -> Газель | C32: маш/час | E32: ='Расчет 5 Спец.техника'!L17 -> 0 | F32: =ROUND(D32*E32,2) -> 0
A33: 7 | B33: Услуги связи | C33: нормо/час | E33: =E19 -> 12 | F33: =ROUND(D33*E33,2) -> 0
A34: 8 | B34: Прочие расходы | F34: =SUM(F35:F39) -> 0
B35: Станция контроля (плотность, расход, давление и температуру ) | C35: руб./час. | F35: =ROUND(D35*E35,2) -> 0
B36: Проведение лабораторных анализов цементного раствора | C36: анализ | F36: =ROUND(D36*E36,2) -> 0
B37: Проведение лабораторных анализов воды | C37: анализ | F37: =ROUND(D37*E37,2) -> 0
B38: СИЗ | C38: нормо/час | F38: =ROUND(D38*E38,2) -> 0
B39: Проживание и питание на м/р | C39: руб./час. | E39: =E19 -> 12 | F39: =ROUND(D39*E39,2) -> 0
A40: 9 | B40: Итого прямых затрат, руб. | F40: =F22+F21+F18+F17+F7+F23+F33+F34 -> 0
A41: 10 | B41: Накладные расходы, руб. | F41: =ROUND(F40*C41,2) -> 0
A42: 11 | B42: Итого с накладными расходами, руб. | F42: =F41+F40 -> 0
...

Sheet ОВП
A2: Калькуляция стоимости ремонтно-изоляционных работ ООО "" на объектах ООО "КанБайкал"
A3: РИР ОВП (Ограничение водопритока)
A4: Продолжительность операции с учетом прибытия/убытия на месторождение | E4: 12 | F4: час
A6: № п/п | B6: Статьи затрат | C6: Ед. изм. | D6: Цена (руб.), ед. | E6: Количество | F6: Итого (руб.)
A7: 1 | B7: Используемые материалы: | F7: =SUM(F8:F18) -> 0
B8: Цемент ПЦТ-G | C8: ='Расчет 4 Материалы'!D9 -> тн | F8: =ROUND(D8*E8,2) -> 0
B9: Замедлитель схватывания CR 220 | C9: ='Расчет 4 Материалы'!D10 -> кг | F9: =ROUND(D9*E9,2) -> 0
B10: Понизитель водоотдачи CFL 117 | C10: ='Расчет 4 Материалы'!D11 -> кг | F10: =ROUND(D10*E10,2) -> 0
B11: Диспергатор цемента CD 12 | C11: ='Расчет 4 Материалы'!D12 -> кг | F11: =ROUND(D11*E11,2) -> 0
B12: Пеногаситель | C12: ='Расчет 4 Материалы'!D13 -> кг | F12: =ROUND(D12*E12,2) -> 0
B13: Гелеобразующий состав BrineBlock 708 | C13: ='Расчет 4 Материалы'!D14 -> кг | F13: =ROUND(D13*E13,2) -> 0
B14: Расширяющая добавка ДаРт-100 | C14: ='Расчет 4 Материалы'!D15 -> кг | F14: =ROUND(D14*E14,2) -> 0
B15: ='Расчет 4 Материалы'!C16 -> Пакер-ретейнер | C15: ='Расчет 4 Материалы'!D16 -> шт | F15: =ROUND(D15*E15,2) -> 0
B16: ='Расчет 4 Материалы'!C18 -> Пресная вода | C16: ='Расчет 4 Материалы'!D18 -> м3 | F16: =ROUND(D16*E16,2) -> 0
B17: ='Расчет 4 Материалы'!C19 -> MPS Reis-H | C17: ='Расчет 4 Материалы'!D19 -> кг | F17: =ROUND(D17*E17,2) -> 0
B18: ='Расчет 4 Материалы'!C20 -> Сшиватель: ацетат хрома | C18: ='Расчет 4 Материалы'!D20 -> кг | F18: =ROUND(D18*E18,2) -> 0
A19: 2 | B19: Электроэнергия, руб. | C19: кВт | F19: =ROUND(D19*E19,2) -> 0
A20: 3 | B20: Фонд заработной платы, руб. | F20: =SUM(F21:F22) -> 0
B21: ='Расчет 1 Зарпл.'!C7 -> Инженер-технолог | C21: чел/час | E21: =E4 -> 12 | F21: =ROUND(D21*E21,2) -> 0
B22: ='Расчет 1 Зарпл.'!C8 -> Оператор по подготовке скважин к капитальному и подземному ремонтам 4 разряда | C22: чел/час | E22: =E21*2 -> 24 | F22: =ROUND(D22*E22,2) -> 0
A23: 4 | B23: Страховые взносы, руб. | C23: 0.304 | F23: =ROUND(F20*C23,2) -> 0
A24: 5 | B24: Амортизация и арендная плата, руб. | C24: нормо/час | E24: =E21 -> 12 | F24: =ROUND(D24*E24,2) -> 0
A25: 6 | B25: Транспортные услуги, руб. | F25: =SUM(F26:F34) -> 0
B26: ='Расчет 5 Спец.техника'!C8 -> Блендер | C26: маш/час | E26: ='Расчет 5 Спец.техника'!P8 -> 0 | F26: =ROUND(D26*E26,2) -> 0
B27: ='Расчет 5 Спец.техника'!C9 -> Передвижной компресор (цементовоз) | C27: маш/час | E27: ='Расчет 5 Спец.техника'!P9 -> 0 | F27: =ROUND(D27*E27,2) -> 0
B28: ='Расчет 5 Спец.техника'!C10 -> Автоцистерна АЦН-16 | C28: маш/час | E28: ='Расчет 5 Спец.техника'!P10 -> 0 | F28: =ROUND(D28*E28,2) -> 0
B29: ='Расчет 5 Спец.техника'!C11 -> Цементировочный агрегат | C29: маш/час | E29: ='Расчет 5 Спец.техника'!P11 -> 0 | F29: =ROUND(D29*E29,2) -> 0
B30: ='Расчет 5 Спец.техника'!C12 -> Вакуумник | C30: маш/час | E30: ='Расчет 5 Спец.техника'!P12 -> 0 | F30: =ROUND(D30*E30,2) -> 0
B31: ='Расчет 5 Спец.техника'!C13 -> Фискарс | C31: маш/час | E31: ='Расчет 5 Спец.техника'!P13 -> 0 | F31: =ROUND(D31*E31,2) -> 0
B32: ='Расчет 5 Спец.техника'!C15 -> Камаз полуприцеп 16 тн | C32: маш/час | E32: ='Расчет 5 Спец.техника'!P15 -> 0 | F32: =ROUND(D32*E32,2) -> 0
B33: ='Расчет 5 Спец.техника'!C16 -> Оперативный транспорт | C33: маш/час | E33: ='Расчет 5 Спец.техника'!P16 -> 0 | F33: =ROUND(D33*E33,2) -> 0
B34: ='Расчет 5 Спец.техника'!C17 -> Газель | C34: маш/час | E34: ='Расчет 5 Спец.техника'!P17 -> 0 | F34: =ROUND(D34*E34,2) -> 0
A35: 7 | B35: Услуги связи | C35: нормо/час | E35: =E21 -> 12 | F35: =ROUND(D35*E35,2) -> 0
A36: 8 | B36: Прочие расходы | F36: =SUM(F37:F43) -> 0
B37: Аренда пакера | C37: сут. | F37: =ROUND(D37*E37,2) -> 0
B38: Станция контроля (плотность, расход, давление и температуру ) | C38: руб./час.
B39: Проведение лабораторных анализов цементного раствора | C39: анализ | F39: =ROUND(D39*E39,2) -> 0
B40: Проведение лабораторных анализов воды | C40: анализ | F40: =ROUND(D40*E40,2) -> 0
B41: Проведение лабораторных анализов полимерных композиций | C41: анализ | F41: =ROUND(D41*E41,2) -> 0
B42: СИЗ | C42: нормо/час | F42: =ROUND(D42*E42,2) -> 0
...

Sheet ВЦК, ЛЗКЦ
A2: Калькуляция стоимости ремонтно-изоляционных работ ООО "" на объектах ООО "КанБайкал"
A3: РИР (ВЦК, ЛЗКЦ сверху )
A4: Продолжительность операции с учетом прибытия/убытия на месторождение | E4: 12 | F4: час
A6: № п/п | B6: Статьи затрат | C6: Ед. изм. | D6: Цена (руб.), ед. | E6: Количество | F6: Итого (руб.)
A7: 1 | B7: Используемые материалы: | F7: =SUM(F8:F15) -> 0
B8: Цемент ПЦТ-G | C8: тн | F8: =ROUND(D8*E8,2) -> 0
B9: Замедлитель схватывания CR 220 | C9: кг | F9: =ROUND(D9*E9,2) -> 0
B10: Понизитель водоотдачи CFL 117 | C10: кг | F10: =ROUND(D10*E10,2) -> 0
B11: Диспергатор цемента CD 12 | C11: кг | F11: =ROUND(D11*E11,2) -> 0
B12: Пеногаситель | C12: кг | F12: =ROUND(D12*E12,2) -> 0
B13: Гелеобразующий состав BrineBlock 708 | C13: кг | F13: =ROUND(D13*E13,2) -> 0
B14: Расширяющая добавка ДаРт-100 | C14: кг | F14: =ROUND(D14*E14,2) -> 0
B15: Пресная вода | C15: м3 | F15: =ROUND(D15*E15,2) -> 0
A16: 2 | B16: Электроэнергия, руб. | C16: кВт | F16: =ROUND(D16*E16,2) -> 0
A17: 3 | B17: Фонд заработной платы, руб. | F17: =SUM(F18:F19) -> 0
B18: ='Расчет 1 Зарпл.'!C7 -> Инженер-технолог | C18: чел/час | E18: =E4 -> 12 | F18: =ROUND(D18*E18,2) -> 0
B19: ='Расчет 1 Зарпл.'!C8 -> Оператор по подготовке скважин к капитальному и подземному ремонтам 4 разряда | C19: чел/час | E19: =E18*'Расчет 1 Зарпл.'!D8 -> 0 | F19: =ROUND(D19*E19,2) -> 0
A20: 4 | B20: Страховые взносы, руб. | C20: 0.304 | F20: =ROUND(F17*C20,2) -> 0
A21: 5 | B21: Амортизация и арендная плата, руб. | C21: нормо/час | E21: =E18 -> 12 | F21: =ROUND(D21*E21,2) -> 0
A22: 6 | B22: Транспортные услуги, руб. | F22: =SUM(F23:F31) -> 0
B23: ='Расчет 5 Спец.техника'!C8 -> Блендер | C23: маш/час | E23: ='Расчет 5 Спец.техника'!X8 -> 0 | F23: =ROUND(D23*E23,2) -> 0
B24: ='Расчет 5 Спец.техника'!C9 -> Передвижной компресор (цементовоз) | C24: маш/час | E24: ='Расчет 5 Спец.техника'!X9 -> 0 | F24: =ROUND(D24*E24,2) -> 0
B25: ='Расчет 5 Спец.техника'!C10 -> Автоцистерна АЦН-16 | C25: маш/час | E25: ='Расчет 5 Спец.техника'!X10 -> 0 | F25: =ROUND(D25*E25,2) -> 0
B26: ='Расчет 5 Спец.техника'!C11 -> Цементировочный агрегат | C26: маш/час | E26: ='Расчет 5 Спец.техника'!X11 -> 0 | F26: =ROUND(D26*E26,2) -> 0
B27: ='Расчет 5 Спец.техника'!C12 -> Вакуумник | C27: маш/час | E27: ='Расчет 5 Спец.техника'!X12 -> 0 | F27: =ROUND(D27*E27,2) -> 0
B28: ='Расчет 5 Спец.техника'!C13 -> Фискарс | C28: маш/час | E28: ='Расчет 5 Спец.техника'!X13 -> 0 | F28: =ROUND(D28*E28,2) -> 0
B29: ='Расчет 5 Спец.техника'!C15 -> Камаз полуприцеп 16 тн | C29: маш/час | E29: ='Расчет 5 Спец.техника'!X15 -> 0 | F29: =ROUND(D29*E29,2) -> 0
B30: ='Расчет 5 Спец.техника'!C16 -> Оперативный транспорт | C30: маш/час | E30: ='Расчет 5 Спец.техника'!X15 -> 0 | F30: =ROUND(D30*E30,2) -> 0
B31: ='Расчет 5 Спец.техника'!C17 -> Газель | C31: маш/час | E31: ='Расчет 5 Спец.техника'!X17 -> 0 | F31: =ROUND(D31*E31,2) -> 0
A32: 7 | B32: Услуги связи | C32: нормо/час | E32: =E18 -> 12 | F32: =ROUND(D32*E32,2) -> 0
A33: 8 | B33: Прочие расходы | F33: =SUM(F34:F39) -> 0
B34: Аренда пакера | C34: сут. | F34: =ROUND(D34*E34,2) -> 0
B35: Станция контроля (плотность, расход, давление и температуру ) | C35: руб./час.
B36: Проведение лабораторных анализов цементного раствора | C36: анализ | F36: =ROUND(D36*E36,2) -> 0
B37: Проведение лабораторных анализов воды | C37: анализ | F37: =ROUND(D37*E37,2) -> 0
B38: СИЗ | C38: нормо/час | F38: =ROUND(D38*E38,2) -> 0
B39: Проживание и питание на м/р | C39: руб./час. | E39: =E18 -> 12 | F39: =ROUND(D39*E39,2) -> 0
A40: 9 | B40: Итого прямых затрат, руб. | F40: =F21+F20+F17+F16+F7+F22+F32+F33 -> 0
A41: 10 | B41: Накладные расходы, руб. | F41: =ROUND(F40*C41,2) -> 0
A42: 11 | B42: Итого с накладными расходами, руб. | F42: =F41+F40 -> 0
...

Sheet ЛНЭК вп
A2: Калькуляция стоимости ремонтно-изоляционных работ ООО "" на объектах ООО "КанБайкал"
A3: РИР (ЛНЭК с высокой приемистостью, более 700 м3 в сутки )
A4: Продолжительность операции с учетом прибытия/убытия на месторождение | E4: 12 | F4: час
A6: № п/п | B6: Статьи затрат | C6: Ед. изм. | D6: Цена (руб.), ед. | E6: Количество | F6: Итого (руб.)
A7: 1 | B7: Используемые материалы: | F7: =SUM(F8:F17) -> 0
B8: Цемент ПЦТ-G | C8: тн | F8: =ROUND(D8*E8,2) -> 0
B9: Замедлитель схватывания CR 220 | C9: кг | F9: =ROUND(D9*E9,2) -> 0
B10: Понизитель водоотдачи CFL 117 | C10: кг | F10: =ROUND(D10*E10,2) -> 0
B11: Диспергатор цемента CD 12 | C11: кг | F11: =ROUND(D11*E11,2) -> 0
B12: Пеногаситель | C12: кг | F12: =ROUND(D12*E12,2) -> 0
B13: Гелеобразующий состав BrineBlock 708 | C13: кг | F13: =ROUND(D13*E13,2) -> 0
B14: Расширяющая добавка ДаРт-100 | C14: кг | F14: =ROUND(D14*E14,2) -> 0
B15: Пресная вода | C15: м3 | F15: =ROUND(D15*E15,2) -> 0
B16: MPS Reis-H | C16: кг | F16: =ROUND(D16*E16,2) -> 0
B17: Сшиватель: ацетат хрома | C17: ='Расчет 4 Материалы'!D19 -> кг | F17: =ROUND(D17*E17,2) -> 0
A18: 2 | B18: Электроэнергия, руб. | C18: кВт | F18: =ROUND(D18*E18,2) -> 0
A19: 3 | B19: Фонд заработной платы, руб. | F19: =SUM(F20:F21) -> 0
B20: ='Расчет 1 Зарпл.'!C7 -> Инженер-технолог | C20: чел/час | E20: =E4 -> 12 | F20: =ROUND(D20*E20,2) -> 0
B21: ='Расчет 1 Зарпл.'!C8 -> Оператор по подготовке скважин к капитальному и подземному ремонтам 4 разряда | C21: чел/час | E21: =E20*'Расчет 1 Зарпл.'!D8 -> 0 | F21: =ROUND(D21*E21,2) -> 0
A22: 4 | B22: Страховые взносы, руб. | C22: 0.304 | F22: =ROUND(F19*C22,2) -> 0
A23: 5 | B23: Амортизация и арендная плата, руб. | C23: нормо/час | E23: =E20 -> 12 | F23: =ROUND(D23*E23,2) -> 0
A24: 6 | B24: Транспортные услуги, руб. | F24: =SUM(F25:F33) -> 0
B25: ='Расчет 5 Спец.техника'!C8 -> Блендер | C25: маш/час | E25: ='Расчет 5 Спец.техника'!AB8 -> 0 | F25: =ROUND(D25*E25,2) -> 0
B26: ='Расчет 5 Спец.техника'!C9 -> Передвижной компресор (цементовоз) | C26: маш/час | E26: ='Расчет 5 Спец.техника'!AB9 -> 0 | F26: =ROUND(D26*E26,2) -> 0
B27: ='Расчет 5 Спец.техника'!C10 -> Автоцистерна АЦН-16 | C27: маш/час | E27: ='Расчет 5 Спец.техника'!AB10 -> 0 | F27: =ROUND(D27*E27,2) -> 0
B28: ='Расчет 5 Спец.техника'!C11 -> Цементировочный агрегат | C28: маш/час | E28: ='Расчет 5 Спец.техника'!AB11 -> 0 | F28: =ROUND(D28*E28,2) -> 0
B29: ='Расчет 5 Спец.техника'!C12 -> Вакуумник | C29: маш/час | E29: ='Расчет 5 Спец.техника'!AB12 -> 0 | F29: =ROUND(D29*E29,2) -> 0
B30: ='Расчет 5 Спец.техника'!C13 -> Фискарс | C30: маш/час | E30: ='Расчет 5 Спец.техника'!AB13 -> 0 | F30: =ROUND(D30*E30,2) -> 0
B31: ='Расчет 5 Спец.техника'!C15 -> Камаз полуприцеп 16 тн | C31: маш/час | E31: ='Расчет 5 Спец.техника'!AB15 -> 0 | F31: =ROUND(D31*E31,2) -> 0
B32: ='Расчет 5 Спец.техника'!C16 -> Оперативный транспорт | C32: маш/час | E32: ='Расчет 5 Спец.техника'!X15 -> 0 | F32: =ROUND(D32*E32,2) -> 0
B33: ='Расчет 5 Спец.техника'!C17 -> Газель | C33: маш/час | E33: ='Расчет 5 Спец.техника'!AB17 -> 0 | F33: =ROUND(D33*E33,2) -> 0
A34: 7 | B34: Услуги связи | C34: нормо/час | E34: =E20 -> 12 | F34: =ROUND(D34*E34,2) -> 0
A35: 8 | B35: Прочие расходы | F35: =SUM(F36:F42) -> 0
B36: Аренда пакера | C36: сут. | F36: =ROUND(D36*E36,2) -> 0
B37: Станция контроля (плотность, расход, давление и температуру ) | C37: руб./час.
B38: Проведение лабораторных анализов цементного раствора | C38: анализ | F38: =ROUND(D38*E38,2) -> 0
B39: Проведение лабораторных анализов воды | C39: анализ | F39: =ROUND(D39*E39,2) -> 0
B40: Проведение лабораторных анализов полимерных композиций | C40: анализ | F40: =ROUND(D40*E40,2) -> 0
B41: СИЗ | C41: нормо/час | F41: =ROUND(D41*E41,2) -> 0
B42: Проживание и питание на м/р | C42: руб./час. | F42: =ROUND(D42*E42,2) -> 0
...

Sheet Расчет 1 Зарпл.
A1: РАСЧЕТ ФОТ НА 1 ОПЕРАЦИЮ ПО РИР
A4: Структурное подразделение | C4: Должность (специальность, профессия), разряд, класс (категория) квалификации | D4: Количество штатных единиц | E4: Тарифная ставка, руб. | G4: Надбавки, руб | J4: Всего в месяц, руб. (гр. 5*165 + гр. 6 + гр. 7 + гр. 8 + гр.9) х гр. 4 | K4: Расчет отпускных выплат на 1 чел. | O4: Итого
A5: наименование | B5: код | F5: Доплата за вредность 10% | G5: Месячная премия 100% | H5: Районный коэффициент 70% | I5: Процентная надбавка 50% | K5: З/пл на 1 чел., руб./мес. (гр.10/гр.4) | L5: Кол-во дней отпуска за год | M5: З/пл.на 1 чел. для расчета отпуска (гр.11./29,3 сут.) | N5: Отпускные на 1 чел./год (гр.12*гр.13) | O5: З/пл на 1 чел., руб./год (с отпускными) гр.11*12+гр.14 | P5: З/пл за 1 час. 1 сотрудника (с отпускными) гр.15/12/165 * гр.4
A6: 1 | B6: 2 | C6: 3 | D6: 4 | E6: 5 | F6: 6 | G6: 7 | H6: 8 | I6: 9 | J6: 10 | K6: 11 | L6: 12 | M6: 13 | N6: 14 | O6: 15 | P6: 16
A7: Технологический департамент | B7: 3 | C7: Инженер-технолог
B8: 3 | C8: Оператор по подготовке скважин к капитальному и подземному ремонтам 4 разряда
C9: ИТОГО | D9: =SUM(D7:D8) -> 0
A13: Генеральный директор

Sheet Расчет 2 Аморт.
B2: Расчет №2
B3: Амортизация основных средств
B6: № п/п | C6: Наименование затрат | D6: Ед. изм. | E6: Кол-во | F6: Арендная плата, руб.без НДС | H6: Амортизация, руб. без НДС
F7: Аренда за месяц | G7: Аренда за 12 мес. | H7: Амортизация за месяц | I7: Амортизация за 1 час
B8: 1 | C8: 2 | D8: 3 | E8: 4 | F8: 5 | G8: 6 | H8: 5 | I8: 6
C9: Амортизация ОС | D9: руб.
B10: 1 | C10: - Система контроля цементирования скважин | D10: шт.
C12: Итого без НДС | I12: =ROUND(SUM(I10:I10),2) -> 0
B18: Генеральный директор

Sheet Расчет 4 Материалы
B3: Расчет №4
B4: Стоимость материалов
B6: № п/п | C6: Наименование | D6: Ед. изм. | E6: Цена за ед. (руб. без НДС) | F6: =ЛНЭК!A3 -> РИР (ЛНЭК, изоляция пласта) | H6: ='ЛЗКЦ пакер'!A3 -> РИР ЛЗКЦ (Ликвидация заколонной циркуляции c применением пакера-ретейнера) | J6: =ОВП!A3 -> РИР ОВП (Ограничение водопритока) | L6: ='ЛНЭК микроц'!A3 -> ЛНЭК при малой приемистости с применением микроцемента | N6: ='ВЦК, ЛЗКЦ'!A3 -> РИР (ВЦК, ЛЗКЦ сверху ) | P6: ='ЛНЭК вп'!A3 -> РИР (ЛНЭК с высокой приемистостью, более 700 м3 в сутки ) | R6: ='РИР мжк'!A3 -> РИР (изоляция межколонного пространства)
F7: кол-во | G7: стоимость | H7: кол-во | I7: стоимость | J7: кол-во | K7: стоимость | L7: кол-во | M7: стоимость | N7: кол-во | O7: стоимость | P7: кол-во | Q7: стоимость | R7: кол-во | S7: стоимость
B9: 1 | C9: Цемент ПЦТ-G | D9: тн | F9: 8 | G9: =ROUND(F9*$E9,2) -> 0 | H9: 8 | I9: =ROUND(H9*$E9,2) -> 0 | J9: 8 | K9: =ROUND(J9*$E9,2) -> 0 | M9: =ROUND(L9*$E9,2) -> 0 | N9: 8 | O9: =ROUND(N9*$E9,2) -> 0 | P9: 11 | Q9: =ROUND(P9*$E9,2) -> 0 | R9: 20 | S9: =ROUND(R9*$E9,2) -> 0
B10: 2 | C10: Замедлитель схватывания CR 220 | D10: кг | F10: 12 | G10: =ROUND(F10*$E10,2) -> 0 | H10: 12 | I10: =ROUND(H10*$E10,2) -> 0 | J10: 12 | K10: =ROUND(J10*$E10,2) -> 0 | L10: 7.5 | M10: =ROUND(L10*$E10,2) -> 0 | N10: 12 | O10: =ROUND(N10*$E10,2) -> 0 | P10: 16.5 | Q10: =ROUND(P10*$E10,2) -> 0 | S10: =ROUND(R10*$E10,2) -> 0
B11: 3 | C11: Понизитель водоотдачи CFL 117 | D11: кг | F11: 64 | G11: =ROUND(F11*$E11,2) -> 0 | H11: 64 | I11: =ROUND(H11*$E11,2) -> 0 | J11: 64 | K11: =ROUND(J11*$E11,2) -> 0 | L11: 45 | M11: =ROUND(L11*$E11,2) -> 0 | N11: 64 | O11: =ROUND(N11*$E11,2) -> 0 | P11: 88 | Q11: =ROUND(P11*$E11,2) -> 0 | S11: =ROUND(R11*$E11,2) -> 0
B12: 4 | C12: Диспергатор цемента CD 12 | D12: кг | F12: 16 | G12: =ROUND(F12*$E12,2) -> 0 | H12: 16 | I12: =ROUND(H12*$E12,2) -> 0 | J12: 16 | K12: =ROUND(J12*$E12,2) -> 0 | M12: =ROUND(L12*$E12,2) -> 0 | N12: 16 | O12: =ROUND(N12*$E12,2) -> 0 | P12: 22 | Q12: =ROUND(P12*$E12,2) -> 0 | S12: =ROUND(R12*$E12,2) -> 0
B13: 5 | C13: Пеногаситель | D13: кг | F13: 4 | G13: =ROUND(F13*$E13,2) -> 0 | H13: 4 | I13: =ROUND(H13*$E13,2) -> 0 | J13: 4 | K13: =ROUND(J13*$E13,2) -> 0 | L13: 4.5 | M13: =ROUND(L13*$E13,2) -> 0 | N13: 4 | O13: =ROUND(N13*$E13,2) -> 0 | P13: 5.5 | Q13: =ROUND(P13*$E13,2) -> 0 | S13: =ROUND(R13*$E13,2) -> 0
B14: 6 | C14: Гелеобразующий состав BrineBlock 708 | D14: кг | F14: 100 | G14: =ROUND(F14*$E14,2) -> 0 | I14: =ROUND(H14*$E14,2) -> 0 | K14: =ROUND(J14*$E14,2) -> 0 | M14: =ROUND(L14*$E14,2) -> 0 | N14: 100 | O14: =ROUND(N14*$E14,2) -> 0 | P14: 500 | Q14: =ROUND(P14*$E14,2) -> 0 | R14: 100 | S14: =ROUND(R14*$E14,2) -> 0
B15: 7 | C15: Расширяющая добавка ДаРт-100 | D15: кг | F15: 400 | G15: =ROUND(F15*$E15,2) -> 0 | H15: 400 | I15: =ROUND(H15*$E15,2) -> 0 | J15: 400 | K15: =ROUND(J15*$E15,2) -> 0 | M15: =ROUND(L15*$E15,2) -> 0 | N15: 400 | O15: =ROUND(N15*$E15,2) -> 0 | P15: 550 | Q15: =ROUND(P15*$E15,2) -> 0 | S15: =ROUND(R15*$E15,2) -> 0
B16: 8 | C16: Пакер-ретейнер | D16: шт | G16: =ROUND(F16*$E16,2) -> 0 | H16: 1 | I16: =ROUND(H16*$E16,2) -> 0 | K16: =ROUND(J16*$E16,2) -> 0 | M16: =ROUND(L16*$E16,2) -> 0 | O16: =ROUND(N16*$E16,2) -> 0 | Q16: =ROUND(P16*$E16,2) -> 0 | S16: =ROUND(R16*$E16,2) -> 0
B17: 9 | C17: Аренда пакера | D17: сут.
B18: 10 | C18: Пресная вода | D18: м3 | F18: 10 | G18: =ROUND(F18*$E18,2) -> 0 | H18: 10 | I18: =ROUND(H18*$E18,2) -> 0 | J18: 10 | K18: =ROUND(J18*$E18,2) -> 0 | L18: 10 | M18: =ROUND(L18*$E18,2) -> 0 | N18: 10 | O18: =ROUND(N18*$E18,2) -> 0 | P18: 10 | Q18: =ROUND(P18*$E18,2) -> 0 | R18: 10 | S18: =ROUND(R18*$E18,2) -> 0
B19: 11 | C19: MPS Reis-H | D19: кг | F19: 400 | G19: =ROUND(F19*$E19,2) -> 0 | I19: =ROUND(H19*$E19,2) -> 0 | J19: 1500 | K19: =ROUND(J19*$E19,2) -> 0 | M19: =ROUND(L19*$E19,2) -> 0 | O19: =ROUND(N19*$E19,2) -> 0 | P19: 1000 | Q19: =ROUND(P19*$E19,2) -> 0 | S19: =ROUND(R19*$E19,2) -> 0
B20: 12 | C20: Сшиватель: ацетат хрома | D20: кг | F20: 40 | G20: =ROUND(F20*$E20,2) -> 0 | I20: =ROUND(H20*$E20,2) -> 0 | J20: 150 | K20: =ROUND(J20*$E20,2) -> 0 | M20: =ROUND(L20*$E20,2) -> 0 | O20: =ROUND(N20*$E20,2) -> 0 | P20: 100 | Q20: =ROUND(P20*$E20,2) -> 0 | S20: =ROUND(R20*$E20,2) -> 0
B21: 13 | C21: ГС ТермоПласт-1 | D21: кг | G21: =ROUND(F21*$E21,2) -> 0 | I21: =ROUND(H21*$E21,2) -> 0 | K21: =ROUND(J21*$E21,2) -> 0 | M21: =ROUND(L21*$E21,2) -> 0 | O21: =ROUND(N21*$E21,2) -> 0 | Q21: =ROUND(P21*$E21,2) -> 0 | S21: =ROUND(R21*$E21,2) -> 0
B22: 14 | C22: Станция контроля (плотность, расход, давление и температуру ) | D22: шт.
B23: 15 | C23: Микроцемент Mikrodur R-95 | D23: тн | G23: =ROUND(F23*$E23,2) -> 0 | I23: =ROUND(H23*$E23,2) -> 0 | K23: =ROUND(J23*$E23,2) -> 0 | L23: 1.5 | M23: =ROUND(L23*$E23,2) -> 0 | O23: =ROUND(N23*$E23,2) -> 0 | Q23: =ROUND(P23*$E23,2) -> 0 | S23: =ROUND(R23*$E23,2) -> 0
C24: Итого: | G24: =SUM(G9:G23) -> 0 | I24: =SUM(I9:I23) -> 0 | K24: =SUM(K9:K23) -> 0 | M24: =SUM(M9:M23) -> 0 | O24: =SUM(O9:O23) -> 0 | Q24: =SUM(Q9:Q23) -> 0 | S24: =SUM(S9:S23) -> 0
B30: Генеральный директор

Sheet Расчет 5 Спец.техника
B1: Расчет №5
B2: Услуги специализированной техники
B4: № п/п | C4: Наименование техники | D4: Тариф, руб./час. | E4: Кол-во часов на прибытие/ убытие техники на объект | F4: ='Форма КП'!B9 -> РИР (ЛНЭК, изоляция пласта)(без мобилизации и демобилизации) | J4: ='Форма КП'!B10 -> РИР (изоляция межколонного пространства)(без мобилизации и демобилизации) | N4: ='Форма КП'!B11 -> ЛНЭК при малой приемистости с применением микроцемента (без мобилизации и демобилизации) | R4: ='Форма КП'!B12 -> РИР ЛЗКЦ (Ликвидация заколонной циркуляции c применением пакера-ретейнера) (без мобилизации и демобилизации) | V4: ='Форма КП'!B13 -> РИР ОВП (Ограничение водопритока) (без мобилизации и демобилизации) | Z4: ='Форма КП'!B14 -> РИР (ВЦК, ЛЗКЦ сверху)(без мобилизации и демобилизации) | AD4: ='Форма КП'!B15 -> РИР (ЛНЭК с высокой приемистостью, более 700 м3 в сутки)(без мобилизации и демобилизации) | AH4: ='Форма КП'!B16 -> Мобилизация флота РИР | AL4: ='Форма КП'!B17 -> Демобилизация флота РИР
B5: 1 | C5: 2 | D5: 3 | E5: 4 | F5: 5 | J5: 6 | N5: 7 | R5: 8 | V5: 9 | Z5: 10 | AD5: 11 | AH5: 12 | AL5: 13
F6: кол-во единиц техники | G6: кол-во часов на операцию | H6: Общее количество машино часов | I6: итого руб. на 1 операцию | J6: кол-во единиц техники | K6: кол-во часов на операцию | L6: Общее количество машино часов | M6: итого руб. на 1 операцию | N6: кол-во единиц техники | O6: кол-во часов на операцию | P6: Общее количество машино часов | Q6: итого руб. на 1 операцию | R6: кол-во единиц техники | S6: кол-во часов на операцию | T6: Общее количество машино часов | U6: итого руб. на 1 операцию | V6: кол-во единиц техники | W6: кол-во часов на операцию | X6: Общее количество машино часов | Y6: итого руб. на 1 операцию | Z6: кол-во единиц техники | AA6: кол-во часов на операцию | AB6: Общее количество машино часов | AC6: итого руб. на 1 операцию | AD6: кол-во единиц техники | AE6: кол-во часов на операцию | AF6: Общее количество машино часов | AG6: итого руб. на 1 операцию | AH6: кол-во единиц техники | AI6: кол-во часов на операцию | AJ6: Общее количество машино часов | AK6: итого руб. на 1 операцию | AL6: кол-во единиц техники | AM6: кол-во часов на операцию | AN6: Общее количество машино часов | AO6: итого руб. на 1 операцию
C7: Спецтехника
B8: 1 | C8: Блендер
B9: 2 | C9: Передвижной компресор (цементовоз)
B10: 3 | C10: Автоцистерна АЦН-16
B11: 4 | C11: Цементировочный агрегат
B12: 5 | C12: Вакуумник
B13: 6 | C13: Фискарс
C14: Доставка материалов с ж/д станции
B15: 7 | C15: Камаз полуприцеп 16 тн
C16: Оперативный транспорт
B17: 8 | C17: Газель
B20: 9 | C20: Итого без НДС | I20: =SUM(I8:I17) -> 0 | M20: =SUM(M8:M17) -> 0 | Q20: =SUM(Q8:Q17) -> 0 | U20: =SUM(U8:U17) -> 0 | Y20: =SUM(Y8:Y17) -> 0 | AC20: =SUM(AC8:AC17) -> 0 | AG20: =SUM(AG8:AG17) -> 0 | AK20: =SUM(AK8:AK17) -> 0 | AO20: =SUM(AO8:AO17) -> 0
C24: Расстояние от ж/д тупика до производ.базы
C25: Расчет среднего расстояния до м/р
C26: Расстояние до г. Нефтеюганск
C28: Месторождение
C29: Западно-Малобалыкское
C30: Унтыгейское
C36: Генеральный директор

Sheet Расчет 6 СИЗ
B2: Расчет №6
B3: Затраты на спецодежду
B5: № п/п | C5: Наименование | D5: Ед. изм. | E5: Кол-во на 1 чел. | F5: Кол-во человек | G5: Срок носки, мес. | H5: Кол-во | I5: Цена за 1 ед., руб. без НДС | J5: Итого, руб. без НДС
B6: 1 | C6: 2 | D6: 3 | G6: 4 | H6: 5 | I6: 6 | J6: 7
B7: 1 | C7: Костюм для защиты от воды из синтетической ткани с пленочным покрытием | D7: шт.
B8: 2 | C8: Костюм для защиты от нефти и нефтепродуктов из смешанных тканей или костюм из смешанных тканей с огнезащитной пропиткой | D8: шт.
B9: 3 | C9: Сапоги кожаные с жестким подноском | D9: шт.
B10: 4 | C10: Сапоги резиновые с жестким подноском | D10: шт.
B11: 5 | C11: Перчатки с полимерным покрытием | D11: шт.
B12: 6 | C12: Перчатки резиновые из полимерных материалов | D12: шт.
B13: 5 | C13: Каска защитная | D13: шт.
B14: 6 | C14: Подшлемник под каску | D14: шт.
B15: 7 | C15: Очки защитные | D15: шт.
C17: Зимой дополнительно:
B18: 1 | C18: Костюм для защиты от нефти и нефтепродуктов из смешанных тканей на утепленной подкладке или или костюм из смешанных тканей с огнезащитной пропиткой на утепленной подкладке | D18: шт.
B19: 2 | C19: Сапоги кожаные с жестким подноском | D19: шт.
B20: 3 | C20: Валенки с резиновым низом | D20: шт.
B21: 4 | C21: Перчатки с полимерным покрытием | D21: шт.
B22: 5 | C22: Перчатки шерстяные (вкладыши) | D22: шт.
B23: 6 | C23: Рукавицы меховые | D23: шт.
C24: Итого:
C25: Затраты на 1 час: | J25: =ROUND(J24/12/165,2) -> 0
C30: Генеральный директор
